BEGIN:VCALENDAR
VERSION:2.0
PRODID:-//BRAČKA MALONOGOMETNA LIGA - ECPv6.15.18//NONSGML v1.0//EN
CALSCALE:GREGORIAN
METHOD:PUBLISH
X-WR-CALNAME:BRAČKA MALONOGOMETNA LIGA
X-ORIGINAL-URL:https://bracka-liga.com
X-WR-CALDESC:Events for BRAČKA MALONOGOMETNA LIGA
REFRESH-INTERVAL;VALUE=DURATION:PT1H
X-Robots-Tag:noindex
X-PUBLISHED-TTL:PT1H
BEGIN:VTIMEZONE
TZID:UTC
BEGIN:STANDARD
TZOFFSETFROM:+0000
TZOFFSETTO:+0000
TZNAME:UTC
DTSTART:20250101T000000
END:STANDARD
END:VTIMEZONE
BEGIN:VEVENT
DTSTART;TZID=UTC:20260422T080000
DTEND;TZID=UTC:20260422T170000
DTSTAMP:20260422T084637
CREATED:20260331T175607Z
LAST-MODIFIED:20260331T175607Z
UID:1416-1776844800-1776877200@bracka-liga.com
SUMMARY:Berekin Postira - MNK Mladost
DESCRIPTION:tex test
URL:https://bracka-liga.com/event/berekin-postira-mnk-mladost-2/
LOCATION:MILNA STADIUM\, Slavonska Avenija 3b\, Zagreb\, 10000\, Croatia (Local Name: Hrvatska)
END:VEVENT
BEGIN:VEVENT
DTSTART;TZID=UTC:20260430T080000
DTEND;TZID=UTC:20260430T170000
DTSTAMP:20260422T084637
CREATED:20260331T175751Z
LAST-MODIFIED:20260331T175751Z
UID:1421-1777536000-1777568400@bracka-liga.com
SUMMARY:Yummy Supetar - Takmac Selca
DESCRIPTION:
URL:https://bracka-liga.com/event/yummy-supetar-takmac-selca/
LOCATION:Supetar\, Supetar
END:VEVENT
BEGIN:VEVENT
DTSTART;TZID=UTC:20260518T080000
DTEND;TZID=UTC:20260518T170000
DTSTAMP:20260422T084637
CREATED:20260331T175718Z
LAST-MODIFIED:20260331T175718Z
UID:1418-1779091200-1779123600@bracka-liga.com
SUMMARY:Prožnica - Pučišća
DESCRIPTION:
URL:https://bracka-liga.com/event/proznica-pucisca/
LOCATION:PUČIŠĆA\, Pučišća
END:VEVENT
BEGIN:VEVENT
DTSTART;TZID=UTC:20260525T080000
DTEND;TZID=UTC:20260525T170000
DTSTAMP:20260422T084637
CREATED:20260331T175849Z
LAST-MODIFIED:20260331T175849Z
UID:1426-1779696000-1779728400@bracka-liga.com
SUMMARY:MNK Bol - Prožnica
DESCRIPTION:
URL:https://bracka-liga.com/event/mnk-bol-proznica/
LOCATION:Bol\, Ul. uz poljanu 3\, Bol\, Splitsko-Dalmatinska Zupanija\, 21420
END:VEVENT
BEGIN:VEVENT
DTSTART;TZID=UTC:20260531T080000
DTEND;TZID=UTC:20260531T170000
DTSTAMP:20260422T084637
CREATED:20260331T175819Z
LAST-MODIFIED:20260331T175819Z
UID:1424-1780214400-1780246800@bracka-liga.com
SUMMARY:Milna - Berekin Postira
DESCRIPTION:
URL:https://bracka-liga.com/event/milna-berekin-postira/
LOCATION:MILNA STADIUM\, Slavonska Avenija 3b\, Zagreb\, 10000\, Croatia (Local Name: Hrvatska)
END:VEVENT
BEGIN:VEVENT
DTSTART;TZID=UTC:20260622T080000
DTEND;TZID=UTC:20260622T170000
DTSTAMP:20260422T084637
CREATED:20260331T173749Z
LAST-MODIFIED:20260331T175458Z
UID:1411-1782115200-1782147600@bracka-liga.com
SUMMARY:MNK Bol - IKS
DESCRIPTION:test text
URL:https://bracka-liga.com/event/berekin-postira-mnk-mladost/
LOCATION:Bol\, Ul. uz poljanu 3\, Bol\, Splitsko-Dalmatinska Zupanija\, 21420
END:VEVENT
END:VCALENDAR